BEGIN:VCALENDAR
VERSION:2.0
PRODID:-//Tova Tickets - ECPv6.15.20//NONSGML v1.0//EN
CALSCALE:GREGORIAN
METHOD:PUBLISH
X-WR-CALNAME:Tova Tickets
X-ORIGINAL-URL:https://tovatickets.com
X-WR-CALDESC:Events for Tova Tickets
REFRESH-INTERVAL;VALUE=DURATION:PT1H
X-Robots-Tag:noindex
X-PUBLISHED-TTL:PT1H
BEGIN:VTIMEZONE
TZID:America/Port_of_Spain
BEGIN:STANDARD
TZOFFSETFROM:-0400
TZOFFSETTO:-0400
TZNAME:AST
DTSTART:20220101T000000
END:STANDARD
END:VTIMEZONE
BEGIN:VEVENT
DTSTART;TZID=America/Port_of_Spain:20240707T170000
DTEND;TZID=America/Port_of_Spain:20240707T213000
DTSTAMP:20260425T123957
CREATED:20240621T152342Z
LAST-MODIFIED:20240621T153141Z
UID:2970-1720371600-1720387800@tovatickets.com
SUMMARY:GMATT VII: Septennium of Gratitude
DESCRIPTION:7th Gospel Music Awards of Trinidad and Tobago Show! Another opportunity to celebrate the ministers and hearts that uplift us through their music. Definitely a Septennium of Gratitude! 🙏✨ \n📅: Sunday 7th July\, 2024\n🕰️: 5pm-10pm\n📍: @sapa \nTickets cost $250 TTD and can be purchased at;\nAll shoeaholics locations\nAll kingslounges locations\nAll excellentstores locations\nReoauto \nOnline at www.tovatickets.com
URL:https://tovatickets.com/event/gmatt2024/
LOCATION:SAPA\, San Fernando\, Trinidad and Tobago
CATEGORIES:Awards,Music
ATTACH;FMTTYPE=image/jpeg:https://tovatickets.com/wp-content/uploads/2024/06/tova-tickets-gmatt7.jpg
END:VEVENT
BEGIN:VEVENT
DTSTART;TZID=America/Port_of_Spain:20240619T173000
DTEND;TZID=America/Port_of_Spain:20240619T213000
DTSTAMP:20260425T123957
CREATED:20240420T162910Z
LAST-MODIFIED:20240507T221026Z
UID:2553-1718818200-1718832600@tovatickets.com
SUMMARY:In His Presence 11
DESCRIPTION:
URL:https://tovatickets.com/event/ihp11/
LOCATION:Shaw Park Complex\, Scarborough\, Tobago\, Trinidad and Tobago
CATEGORIES:Music
ATTACH;FMTTYPE=image/jpeg:https://tovatickets.com/wp-content/uploads/2024/04/tova-tickets-event-image-banner.jpg
ORGANIZER;CN="Dominion Promotions":MAILTO:Info@dominiontobago.com
END:VEVENT
BEGIN:VEVENT
DTSTART;TZID=America/Port_of_Spain:20240601T180000
DTEND;TZID=America/Port_of_Spain:20240601T230000
DTSTAMP:20260425T123957
CREATED:20240228T165900Z
LAST-MODIFIED:20240408T104158Z
UID:2081-1717264800-1717282800@tovatickets.com
SUMMARY:40 Legacy: Sherwin Gardner
DESCRIPTION:Get ready because on June 1st\, 2024\, Blessings will Find You here!  \nSherwin Gardner Live in Trinidad & Tobago\, at Faith Assembly International\, 40 Legacy. It’s a celebration you won’t want to miss\, marking 40 incredible years of music ministry. \nJoining him will be a lineup of amazing guests\, including Positive\, and all the way from Nigeria\, Limoblaze! Featuring special guests Sherwin has collaborated with over the years\, \nWe will be paying special tributes to Jamie Thomas\, Samuel Dyer\, and Gitta Dan \nGet your Tickets now for just $200. Don’t miss out on this incredible offer!
URL:https://tovatickets.com/event/40legacy/
LOCATION:Faith Assembly International\, Fiver Rivers Junction\, Acrouca\, Trinidad and Tobago
CATEGORIES:Music
ATTACH;FMTTYPE=image/jpeg:https://tovatickets.com/wp-content/uploads/2024/02/tova-tickets-40Legacy-updated.jpg
END:VEVENT
BEGIN:VEVENT
DTSTART;TZID=America/Port_of_Spain:20240427T090000
DTEND;TZID=America/Port_of_Spain:20240429T170000
DTSTAMP:20260425T123957
CREATED:20240315T133408Z
LAST-MODIFIED:20240315T134709Z
UID:2226-1714208400-1714410000@tovatickets.com
SUMMARY:Freedom In Christ Trinidad and Tobago Conference!
DESCRIPTION:Join us for an inspiring journey at the Freedom In Christ Trinidad and Tobago Conference!\nUnlock new horizons\, connect with like-minded individuals\, and register now for an empowering experience that transcends boundaries.\nSeize your spot and embrace the freedom that awaits! Galatians 5:1. \nRegistration Cost: \n\nIndividual: $150.00TTD\nGroup of 10 Persons: $1000.00TTD\n\nContact for more information: 868-355-6024 / 868-727-5033\nEmail: info.ficmtt@gmail.com
URL:https://tovatickets.com/event/ficm/
LOCATION:Faith Assembly International\, Fiver Rivers Junction\, Acrouca\, Trinidad and Tobago
CATEGORIES:Conference
ATTACH;FMTTYPE=image/jpeg:https://tovatickets.com/wp-content/uploads/2024/03/tova-tickets-ficm-2024.jpg
END:VEVENT
BEGIN:VEVENT
DTSTART;TZID=America/Port_of_Spain:20240316T173000
DTEND;TZID=America/Port_of_Spain:20250316T203000
DTSTAMP:20260425T123957
CREATED:20250305T122528Z
LAST-MODIFIED:20250313T190516Z
UID:3269-1710610200-1742157000@tovatickets.com
SUMMARY:USC Portraits of Excellence - Scholarship Pageant (Pay-per-view)
DESCRIPTION:Join us on a journey of excellence at the University of the Southern Caribbean Portraits of Excellence Scholarship Pageant 2025! Under the patronage of Mrs. Sharon Clark-Rowley\, this spectacular event on Sunday\, March 16\, 2025 at 5:30pm in the USC Auditorium\, Maracas Valley\, St. Joseph promises an unforgettable evening of culture\, talent\, and academic recognition. \nThis year’s theme\, “Entrepreneurial Innovations: An Imperative for Sustainability in the Caribbean”. The emphasis is on United Nations Sustainable Development Goals 8 and 9 : Decent Work & Economic Growth and Industry\, Innovation & Infrastructure.
URL:https://tovatickets.com/event/usc-portraits-of-excellence-2025/
LOCATION:University of the Southern Caribbean\, USC Auditorium\, Maracas Valley\, St. Joseph\, Trinidad and Tobago
CATEGORIES:Awards
ATTACH;FMTTYPE=image/jpeg:https://tovatickets.com/wp-content/uploads/2025/03/tova-tickets-usc-poe-2025.jpg
ORGANIZER;CN="University of the Southern Caribbean":MAILTO:imc@usc.edu.tt
END:VEVENT
BEGIN:VEVENT
DTSTART;TZID=America/Port_of_Spain:20240310T173000
DTEND;TZID=America/Port_of_Spain:20240310T203000
DTSTAMP:20260425T123957
CREATED:20240205T161608Z
LAST-MODIFIED:20240228T132048Z
UID:2030-1710091800-1710102600@tovatickets.com
SUMMARY:USC Portraits of Excellence - Scholarship Pageant
DESCRIPTION:Join us on a journey of excellence at the University of the Southern Caribbean Portraits of Excellence Scholarship Pageant 2024! Under the patronage of Mrs. Sharon Clark-Rowley\, this spectacular event on Sunday\, March 10\, 2024 at 5:30pm in the USC Auditorium\, Maracas Valley\, St. Joseph promises an unforgettable evening of culture\, talent\, and academic recognition. \nThis year’s theme\, “Fighting Poverty and Hunger: Promoting Food Security in the Caribbean-One Plate at a Time\,” aligns with the United Nations’ Sustainable Development Goals #1 and #2. Our delegates from across the Caribbean are ready to showcase their academic prowess\, cultural richness\, and commitment to community service.
URL:https://tovatickets.com/event/usc-portraits-of-excellence/
LOCATION:University of the Southern Caribbean\, USC Auditorium\, Maracas Valley\, St. Joseph\, Trinidad and Tobago
CATEGORIES:Awards
ATTACH;FMTTYPE=image/jpeg:https://tovatickets.com/wp-content/uploads/2024/02/tova-tickets-usc-portrait-of-excellence.jpg
ORGANIZER;CN="University of the Southern Caribbean":MAILTO:imc@usc.edu.tt
END:VEVENT
BEGIN:VEVENT
DTSTART;TZID=America/Port_of_Spain:20240127T090000
DTEND;TZID=America/Port_of_Spain:20240127T120000
DTSTAMP:20260425T123957
CREATED:20240108T183719Z
LAST-MODIFIED:20240108T202438Z
UID:1951-1706346000-1706356800@tovatickets.com
SUMMARY:Vision Writing Virtual Workshop
DESCRIPTION:“Vision is a picture of the future that produces passion” Bill Hybels! \nJoin us for this 3hr hands-on Vision Writing Workshop to explore the key facets of a personal vision statement and get the tools you need to build the dream you see in your heart! \nPresenter Lyndon Balkran will leverage proven principles to help attendees gain actionable insights to discover and document their vision! \nDetails for this digital workshop are outlined below: \n\nDate: Saturday January 27th\nTime: 9:00 am – 12:00 noon\nVenue: Virtual\nTickets Cost: TT$100.00\n\nUpon the confirmation of payment\, access codes will be shared via email. Seats are limited so book your spot now!
URL:https://tovatickets.com/event/vision-writing-virtual-workshop/
LOCATION:Virtual
CATEGORIES:Conference,Workshop
ATTACH;FMTTYPE=image/jpeg:https://tovatickets.com/wp-content/uploads/2024/01/VW-TOVA-1.jpg
ORGANIZER;CN="Hit Refresh":MAILTO:hitrefreshcommunity@gmail.com
END:VEVENT
BEGIN:VEVENT
DTSTART;TZID=America/Port_of_Spain:20231223T170000
DTEND;TZID=America/Port_of_Spain:20231224T010000
DTSTAMP:20260425T123957
CREATED:20231207T125622Z
LAST-MODIFIED:20231207T174718Z
UID:667-1703350800-1703379600@tovatickets.com
SUMMARY:Parangthon 2023: Rediscover Parang (VIP)
DESCRIPTION:🤩🎊🎄The Biggest Christmas Event In Port-Of-Spain is here again! \n✨🎄PARANGTHON 2023🎄✨ \nJoin us on Saturday\, December 23rd\, 2023\, at 5pm\, as Ariapita Avenue comes alive with the spirit of Christmas! \n💃🏽🕺🏽Absolutely FREE !!\n❤️Like our Pages on IG & FB @parangthon for more details. \nWitness thousands of Parranderos and Christmas Enthusiasts uniting from all corners of the islands\, transforming Ariapita into a vibrant tapestry of musical brilliance. \nParang Walk\n5:30pm-8:00pm (No ticket required)\nWe meet at De Verteuil Street as we parang the Ariapita Avenue to French Street \nParangthon Blocko\n8:00pm-1:00am\nGeneral Admission: Free\nVIP: $100 (Experience Parangthon with unparalleled views\, with a private bar and food service) \n🎊Immerse yourself in the biggest LIVE MUSIC DISTRICT for 2023 featuring: \n📆 ✅ Mark your calendar and be part of this unforgettable experience! Let the melodies of Christmas fill your heart and soul. See you at PARANGTHON Annual Christmas Festival – where tradition meets celebration in the most spectacular way!
URL:https://tovatickets.com/event/parangthon-2023-rediscover-parang-vip/
LOCATION:The Avenue\, Ariapita Avenue\, Port of Spain\, Trinidad and Tobago
CATEGORIES:Concert,Music,Port of Spain
ATTACH;FMTTYPE=image/jpeg:https://tovatickets.com/wp-content/uploads/2023/12/tova-tickets-parangthon-vip.jpg
END:VEVENT
BEGIN:VEVENT
DTSTART;TZID=America/Port_of_Spain:20231223T170000
DTEND;TZID=America/Port_of_Spain:20231224T010000
DTSTAMP:20260425T123957
CREATED:20231204T233713Z
LAST-MODIFIED:20231207T174533Z
UID:622-1703350800-1703379600@tovatickets.com
SUMMARY:Parangthon 2023: Rediscover Parang (Free)
DESCRIPTION:🤩🎊🎄The Biggest Christmas Event In Port-Of-Spain is here again! \n✨🎄PARANGTHON 2023🎄✨ \nJoin us on Saturday\, December 23rd\, 2023\, at 5pm\, as Ariapita Avenue comes alive with the spirit of Christmas! \n💃🏽🕺🏽Absolutely FREE !!\n❤️Like our Pages on IG & FB @parangthon for more details. \nWitness thousands of Parranderos and Christmas Enthusiasts uniting from all corners of the islands\, transforming Ariapita into a vibrant tapestry of musical brilliance. \nParang Walk\n5:30pm-8:00pm (No ticket required)\nWe meet at De Verteuil Street as we parang the Ariapita Avenue to French Street \nParangthon Blocko\n8:00pm-1:00am\nGeneral Admission: Free\nVIP: $100 (Experience Parangthon with unparalleled views\, with a private bar and food service) \n🎊Immerse yourself in the biggest LIVE MUSIC DISTRICT for 2023 featuring: \n📆 ✅ Mark your calendar and be part of this unforgettable experience! Let the melodies of Christmas fill your heart and soul. See you at PARANGTHON Annual Christmas Festival – where tradition meets celebration in the most spectacular way!
URL:https://tovatickets.com/event/parangthon/
LOCATION:The Avenue\, Ariapita Avenue\, Port of Spain\, Trinidad and Tobago
CATEGORIES:Concert,Music,Port of Spain
ATTACH;FMTTYPE=image/jpeg:https://tovatickets.com/wp-content/uploads/2023/12/tova-tickets-parangthon-free-x2.jpg
END:VEVENT
BEGIN:VEVENT
DTSTART;TZID=America/Port_of_Spain:20231203T160000
DTEND;TZID=America/Port_of_Spain:20231203T230000
DTSTAMP:20260425T123957
CREATED:20231126T211706Z
LAST-MODIFIED:20231127T145843Z
UID:599-1701619200-1701644400@tovatickets.com
SUMMARY:The Altruistic Benefit Cup
DESCRIPTION:
URL:https://tovatickets.com/event/altruistic-benefit-cup/
CATEGORIES:Sports
ATTACH;FMTTYPE=image/jpeg:https://tovatickets.com/wp-content/uploads/2023/11/tova-tickets-aclass-altruistric-benefit.jpg
END:VEVENT
BEGIN:VEVENT
DTSTART;TZID=America/Port_of_Spain:20230916T180000
DTEND;TZID=America/Port_of_Spain:20230916T220000
DTSTAMP:20260425T123957
CREATED:20230803T221243Z
LAST-MODIFIED:20230821T133146Z
UID:345-1694887200-1694901600@tovatickets.com
SUMMARY:Glow Fest
DESCRIPTION:GLOW FEST Returns! Mark your calendars for September 16\, 2023 as we bring you an extraordinary revival like never before! Get ready to be swept off your feet by the captivating presence of the Grammy & Stellar award-winning sensation\, Minister and Pastor Tye Tribbett.
URL:https://tovatickets.com/event/glowfest/
LOCATION:Shaw Park Complex\, Scarborough\, Tobago\, Trinidad and Tobago
CATEGORIES:Music,Tobago
ATTACH;FMTTYPE=image/jpeg:https://tovatickets.com/wp-content/uploads/2023/08/tova-tickets-glow-fest-main.jpg
END:VEVENT
END:VCALENDAR