BEGIN:VCALENDAR
VERSION:2.0
PRODID:-//Tova Tickets - ECPv6.15.20//NONSGML v1.0//EN
CALSCALE:GREGORIAN
METHOD:PUBLISH
X-WR-CALNAME:Tova Tickets
X-ORIGINAL-URL:https://tovatickets.com
X-WR-CALDESC:Events for Tova Tickets
REFRESH-INTERVAL;VALUE=DURATION:PT1H
X-Robots-Tag:noindex
X-PUBLISHED-TTL:PT1H
BEGIN:VTIMEZONE
TZID:America/Port_of_Spain
BEGIN:STANDARD
TZOFFSETFROM:-0400
TZOFFSETTO:-0400
TZNAME:AST
DTSTART:20240101T000000
END:STANDARD
END:VTIMEZONE
BEGIN:VEVENT
DTSTART;TZID=America/Port_of_Spain:20250921T160000
DTEND;TZID=America/Port_of_Spain:20250921T210000
DTSTAMP:20260425T064250
CREATED:20250816T124809Z
LAST-MODIFIED:20250816T133339Z
UID:3342-1758470400-1758488400@tovatickets.com
SUMMARY:Rhythm of the Ages: The Amplified Concert
DESCRIPTION:AMPLIFIED is a group of talented young people\, ministering for almost a decade together\, using their musical talents for God. They have ministered in song across Trinidad and Tobago at several churches\, concerts\, seniors’ and children’s homes and fundraising events. Join this dynamic group as they bring to you “Rhythm of the Ages: The Amplified Concert”. \n21 September 2025. 4:00PM\nBureau of Standards\, 1-2 Century Drive\, Macoya\, Trincity\nCost: TT$100
URL:https://tovatickets.com/event/rhythm-of-the-ages-the-amplified-concert/
LOCATION:Bureau of Standards\, 1-2 Century Drive\, Macoya\, Trincity\, Trinidad and Tobago
CATEGORIES:Concert,Music
ATTACH;FMTTYPE=image/jpeg:https://tovatickets.com/wp-content/uploads/2025/08/tova-tickets-Rhythm-of-the-Ages.jpg
END:VEVENT
END:VCALENDAR