BEGIN:VCALENDAR
VERSION:2.0
PRODID:-//Tova Tickets - ECPv6.15.20//NONSGML v1.0//EN
CALSCALE:GREGORIAN
METHOD:PUBLISH
X-WR-CALNAME:Tova Tickets
X-ORIGINAL-URL:https://tovatickets.com
X-WR-CALDESC:Events for Tova Tickets
REFRESH-INTERVAL;VALUE=DURATION:PT1H
X-Robots-Tag:noindex
X-PUBLISHED-TTL:PT1H
BEGIN:VTIMEZONE
TZID:America/Port_of_Spain
BEGIN:STANDARD
TZOFFSETFROM:-0400
TZOFFSETTO:-0400
TZNAME:AST
DTSTART:20230101T000000
END:STANDARD
END:VTIMEZONE
BEGIN:VEVENT
DTSTART;VALUE=DATE:20241222
DTEND;VALUE=DATE:20241223
DTSTAMP:20260425T211058
CREATED:20241213T105938Z
LAST-MODIFIED:20241213T174113Z
UID:3004-1734825600-1734911999@tovatickets.com
SUMMARY:Bmobile Parangthon Christmas Festival: Road Trip(Parranderos)
DESCRIPTION:🎶 Calling All True Parranderos! Join the Parangthon Road Trip Caravan! 🎶 \nHey Parranderos! Get ready to sing\, strum\, and spread the joy of Parang with the Bmobile Parangthon Christmas Festival—the largest traditional Parang Festival in Trinidad and Tobago! \n🚌 Reserve Your Spot on the Road Trip Caravan NOW!\nThe journey kicks off on Sunday\, 22nd December 2024\, as we sweep the nation with non-stop Parang\, love\, and Christmas cheer\, traveling from Princes Town to the magical Adam Smith Square Tropical Christmas Wonderland. \n✨ Your TTD120 Package Includes:\n✅ Your official Parangthon Jersey\n✅ Breakfast and Lunch (included)\n✅ Drinks for the entire journey \n🎶 Road Trip Caravan Stops: \n\n9:00 AM: Princes Town (Starting Point) Independence Avenue\nC3 Mall\, San Fernando\nWoodford Café\, Chaguanas\nGrand Bazaar\, Valsayn\nIndependence Square\, Port of Spain\nFinal Stop: Adam Smith Square\, Woodbrook\, at 8:30 PM\n\n🚨 Are You a Bonafide Parrandero?\nTo join the Caravan\, you must be a true Parrandero and provide proof of your Parang passion (e.g.\, Parang group membership or event history). \n🎟️ Reserve Your Spot NOW!\nSeats are limited! Secure your place on the most festive road trip of the year. \nParangthon Hotline: 📞 1 (868) 488-8999\nFollow us on social media for updates: @PARANGTHON \nLet’s keep the Parang tradition alive! See you on the road! 🎄🎤
URL:https://tovatickets.com/event/bmobile-parangthon-christmas-festival-parranderos/
LOCATION:Road Trip: Princes Town to Port of Spain
CATEGORIES:Music,Port of Spain,San Fernando
ATTACH;FMTTYPE=image/jpeg:https://tovatickets.com/wp-content/uploads/2024/12/parangthon-parranderos-2024.jpg
END:VEVENT
BEGIN:VEVENT
DTSTART;VALUE=DATE:20241222
DTEND;VALUE=DATE:20241223
DTSTAMP:20260425T211058
CREATED:20241213T110741Z
LAST-MODIFIED:20241213T110741Z
UID:3017-1734825600-1734911999@tovatickets.com
SUMMARY:Bmobile Parangthon Christmas Festival: Road Trip(Partronderos)
DESCRIPTION:🎶 Calling All Patronderos! Experience the Magic of Parangthon Up Close and Personal!🎶 \nHey Patronderos! If you’re a true lover of the artform and culture of Parang\, this is your chance to immerse yourself in the ultimate Parang experience with the Bmobile Parangthon Christmas Festival—the largest traditional Parang Festival in Trinidad and Tobago! \n🚌 Reserve Your Spot on the Exclusive Road Trip Caravan!\nJoin us on Sunday\, 22nd December 2024\, as we travel alongside 150 bonafide Parranderos\, spreading non-stop Parang\, joy\, and Christmas cheer across the nation. \n✨ Your TTD250 Package Includes:\n✅ Your official Parangthon T-Shirt\n✅ A spot on the bus for the entire unforgettable journey \n🎶 Road Trip Caravan Stops: \n\n9:00 AM: Princes Town (Starting Point) Independence Avenue\nC3 Mall\, San Fernando\nWoodford Café\, Chaguanas\nGrand Bazaar\, Valsayn\nIndependence Square\, Port of Spain\nFinal Stop: Adam Smith Square\, Woodbrook\, at 8:30 PM\n\n🌟 Why Join as a Patrondero?\nThis is your chance to witness the magic of Parang up close\, sing along with authentic acoustic Parang\, and soak in the rich heritage of the artform in the company of the most passionate Parranderos! \n🎟️ Reserve Your Spot NOW!\nLimited spots available! Don’t miss out on the most festive road trip of the year. \nParangthon Hotline: 📞 1 (868) 488-8999\nFollow us on social media for updates: @PARANGTHON \nCome for the culture\, stay for the music\, and make memories to last a lifetime! Let’s Parang! 🎄🎤
URL:https://tovatickets.com/event/bmobile-parangthon-christmas-festival-road-trip-patronderos/
LOCATION:Road Trip: Princes Town to Port of Spain
CATEGORIES:Music,Port of Spain,San Fernando
ATTACH;FMTTYPE=image/jpeg:https://tovatickets.com/wp-content/uploads/2024/12/parangthon-patronderos-2024.jpg
END:VEVENT
END:VCALENDAR