BEGIN:VCALENDAR
VERSION:2.0
PRODID:-//Tova Tickets - ECPv6.15.20//NONSGML v1.0//EN
CALSCALE:GREGORIAN
METHOD:PUBLISH
X-WR-CALNAME:Tova Tickets
X-ORIGINAL-URL:https://tovatickets.com
X-WR-CALDESC:Events for Tova Tickets
REFRESH-INTERVAL;VALUE=DURATION:PT1H
X-Robots-Tag:noindex
X-PUBLISHED-TTL:PT1H
BEGIN:VTIMEZONE
TZID:America/Port_of_Spain
BEGIN:STANDARD
TZOFFSETFROM:-0400
TZOFFSETTO:-0400
TZNAME:AST
DTSTART:20230101T000000
END:STANDARD
END:VTIMEZONE
BEGIN:VEVENT
DTSTART;TZID=America/Port_of_Spain:20260104T180000
DTEND;TZID=America/Port_of_Spain:20260104T220000
DTSTAMP:20260424T203914
CREATED:20251221T131202Z
LAST-MODIFIED:20251228T180603Z
UID:3631-1767549600-1767564000@tovatickets.com
SUMMARY:Alpha & Omega: The Bonfire
DESCRIPTION:Alpha & Omega: The Bonfire \nJoin us at The Table for a bonfire night of fellowship and fun.\nA space where youth can feel at peace\, welcomed\, and free to be themselves among like-minded friends. \nTime: 6pm\nDate: Sunday 4th 2026\nLocation: Victory Heights Bible Camp (Main Field) \nTicket Cost: $100.0 TTD
URL:https://tovatickets.com/event/alpha-omega-the-bonfire/
LOCATION:Victory Heights Bible Camp\, Mission Road\, Seecharan Street\, Cane Farm\, Arouca\, Trinidad and Tobago
CATEGORIES:Conference,Seminar
ATTACH;FMTTYPE=image/jpeg:https://tovatickets.com/wp-content/uploads/2025/12/tova-tickets-the-table-4-jn.jpg
ORGANIZER;CN="The Table":MAILTO:wearethetablett@gmail.com
END:VEVENT
BEGIN:VEVENT
DTSTART;TZID=America/Port_of_Spain:20251230T180000
DTEND;TZID=America/Port_of_Spain:20251230T233000
DTSTAMP:20260424T203914
CREATED:20251130T194404Z
LAST-MODIFIED:20251215T220552Z
UID:3548-1767117600-1767137400@tovatickets.com
SUMMARY:Goal Setting Party
DESCRIPTION:🎯 We’re ending 2025 with a BANG — and stepping into 2026 with POWER + PURPOSE! \n💫 Sunrise Citi Connect presents the ULTIMATE GOAL SETTING PARTY — the ONLY all-inclusive year-end experience designed to activate your VISION\, ELEVATE your MINDSET\, and POSITION you for MASSIVE 2026 SUCCESS. \nThis TRANSFORMATIONAL night includes:\n✅ Mind-Mapping & Planning\n✅ Leadership + Finance Insights\n✅ Public and Professional Speaking Skills\n✅ Branding Strategies\n✅ Vision-Boarding\n✅ Multiple Million Dollar Communications Strategies\n✅ Networking with Winners\n✅ Live DJ + Full All-Inclusive Experience\nEverything you need to walk into 2026 on fire. \n✨ TICKETS ARE ALL-INCLUSIVE! \n🌅 Sunrise Citi Connect Members\nEarly Bird (before Dec 8th): $350\nGeneral Admission: $400 \n🎟️ General Public\nEarly Bird (before Dec 8th): $450\nGeneral Admission: $500 \n📅 December 30th\, 2025\n📍 Studio 121\, Barataria\n👔 Dress Code: Business Casual \nYour BREAKTHROUGH year starts NOW.\nSecure your ALL-INCLUSIVE spot today at tovatickets.com 🚀🔥 \n💳 Having trouble with online payments?\n\nNo worries — you can also complete your purchase via bank transfer: \nBANK: Royal Bank (RBC) ACCOUNT NAME:\nACCOUNT NAME: Libber8 Limited\nACCOUNT NUMBER: 110000004628263\nACCOUNT TYPE: Chequing \nAfter completing your transfer\, kindly WhatsApp your receipt to 755-2493 to confirm your ticket.
URL:https://tovatickets.com/event/goal-setting-party-2025/
LOCATION:Studio 121\, Corner Tenth Street & Ninth Avenue\, Barataria\, Trinidad and Tobago
CATEGORIES:Business,Conference
ATTACH;FMTTYPE=image/jpeg:https://tovatickets.com/wp-content/uploads/2025/11/tova-tickets-goal-setting-party-2025.jpg
ORGANIZER;CN="Sunrise Citi Connect":MAILTO:sunriseciticonnect@gmail.com
END:VEVENT
BEGIN:VEVENT
DTSTART;TZID=America/Port_of_Spain:20250705T090000
DTEND;TZID=America/Port_of_Spain:20250705T150000
DTSTAMP:20260424T203914
CREATED:20250415T193220Z
LAST-MODIFIED:20250515T124359Z
UID:3322-1751706000-1751727600@tovatickets.com
SUMMARY:EmpowerED Childcare Leaders Conference 2025
DESCRIPTION:Welcome to EmpowerED Childcare Leaders Conference 2025\nParia Suites Hotel\, La Romaine\nSaturday 5th July\,2025\n9am-3pm\nTickets Tier 2-$650
URL:https://tovatickets.com/event/empowered-childcare-leaders-conference-2025/
LOCATION:Para Suites Hotel\, La Romaine\, Trinidad and Tobago
CATEGORIES:Conference
ATTACH;FMTTYPE=image/jpeg:https://tovatickets.com/wp-content/uploads/2025/04/tova-tickets-empowered-childcare-leaders-conference-2025.jpg
END:VEVENT
BEGIN:VEVENT
DTSTART;TZID=America/Port_of_Spain:20250125T100000
DTEND;TZID=America/Port_of_Spain:20250125T153000
DTSTAMP:20260424T203915
CREATED:20250104T121935Z
LAST-MODIFIED:20250104T170404Z
UID:3195-1737799200-1737819000@tovatickets.com
SUMMARY:Logos Hope: Next Step Mission Conference
DESCRIPTION:Next Step Mission Conference \nExperience the Next Step Mission Camp! \nDate: January 25\, 2025\nLocation: Logos Hope\, Port of Spain\, Trinidad\nTime: 10:00am – 3:30pm (Open doors at 9:30am)\nEntry Fee: TT$25
URL:https://tovatickets.com/event/logos-hope-next-step-mission-conference/
LOCATION:Logos Hope\, Port of Spain\, Trinidad and Tobago
CATEGORIES:Conference
ATTACH;FMTTYPE=image/jpeg:https://tovatickets.com/wp-content/uploads/2025/01/tova-tickets-next-step-mission.jpg
ORGANIZER;CN="Logos Hope":MAILTO:russell.munjera@gbaships.org
END:VEVENT
BEGIN:VEVENT
DTSTART;TZID=America/Port_of_Spain:20250119T170000
DTEND;TZID=America/Port_of_Spain:20250119T183000
DTSTAMP:20260424T203915
CREATED:20241218T231623Z
LAST-MODIFIED:20241218T231623Z
UID:3084-1737306000-1737311400@tovatickets.com
SUMMARY:Logos Hope: Meet The World
DESCRIPTION:Meet The World \nExperience the beauty of diversity through cultural performances from all around the world! \nDate: January 19\, 2025\nLocation: Logos Hope\, Port of Spain\, Trinidad\nTime: 5:00pm – 6:30pm (Open doors at 4:30pm)\nEntry Fee: TT$10
URL:https://tovatickets.com/event/logos-hope-meet-the-world/
LOCATION:Logos Hope\, Port of Spain\, Trinidad and Tobago
CATEGORIES:Conference
ATTACH;FMTTYPE=image/jpeg:https://tovatickets.com/wp-content/uploads/2024/12/tova-tickets-logos-hope-meet-the-world.jpg
ORGANIZER;CN="Logos Hope":MAILTO:russell.munjera@gbaships.org
END:VEVENT
BEGIN:VEVENT
DTSTART;TZID=America/Port_of_Spain:20250118T090000
DTEND;TZID=America/Port_of_Spain:20250118T150000
DTSTAMP:20260424T203915
CREATED:20241218T233311Z
LAST-MODIFIED:20241218T233311Z
UID:3089-1737190800-1737212400@tovatickets.com
SUMMARY:Logos Hope: Activate
DESCRIPTION:Activate \nGod is at work in this world and every believer is part of His story. Come and discover\, as students and young professionals\, your place and role in God’s Kingdom here on earth. \nDate: January 18\, 2025\nLocation: Logos Hope\, Port of Spain\, Trinidad\nTime: 9:00am – 3:00pm (Open doors at 8:30am)\nFor: Young Adults 19 – 30 Years\nEntry Fee: TT$10
URL:https://tovatickets.com/event/logos-hope-activate/
LOCATION:Logos Hope\, Port of Spain\, Trinidad and Tobago
CATEGORIES:Conference
ATTACH;FMTTYPE=image/jpeg:https://tovatickets.com/wp-content/uploads/2024/12/tova-tickets-logo-hope-activate.jpg
ORGANIZER;CN="Logos Hope":MAILTO:russell.munjera@gbaships.org
END:VEVENT
BEGIN:VEVENT
DTSTART;TZID=America/Port_of_Spain:20250107T180000
DTEND;TZID=America/Port_of_Spain:20250107T203000
DTSTAMP:20260424T203915
CREATED:20241218T225348Z
LAST-MODIFIED:20241218T225348Z
UID:3061-1736272800-1736281800@tovatickets.com
SUMMARY:Logos Hope: Women In God's Story
DESCRIPTION:Women in God’s Story \nCome and be inspired as we reflect on how God has used women to contribute to God’s Kingdom in the Bible and from the Caribbean. \nLocation: Logos Hope\, Port of Spain\, Trinidad\nDate: January 7\, 2025\nTime: 6:00pm – 8:30pm (Open doors 5:30pm)\nEntry Fee: TT$30
URL:https://tovatickets.com/event/logos-hope-women-in-gods-story/
LOCATION:Logos Hope\, Port of Spain\, Trinidad and Tobago
CATEGORIES:Conference
ATTACH;FMTTYPE=image/jpeg:https://tovatickets.com/wp-content/uploads/2024/12/tova-tickets-logos-hope-women-in-gods-story-02.jpg
ORGANIZER;CN="Logos Hope":MAILTO:russell.munjera@gbaships.org
END:VEVENT
BEGIN:VEVENT
DTSTART;TZID=America/Port_of_Spain:20250105T180000
DTEND;TZID=America/Port_of_Spain:20250105T200000
DTSTAMP:20260424T203915
CREATED:20241218T230723Z
LAST-MODIFIED:20241218T235059Z
UID:3078-1736100000-1736107200@tovatickets.com
SUMMARY:Logos Hope: New Year Worship Concert
DESCRIPTION:New Year Worship Concert \nCome and let us celebrate the new year festive with the Local Trini-band and the Logos Hope Band. \nLocation: Logos Hope\, Port of Spain\, Trinidad\nDate: January 5\, 2025\nTime: 6:00pm – 8:00pm (Open doors 5:30pm)\nEntry Fee: TT$10
URL:https://tovatickets.com/event/logos-hope-new-year-worship-concert/
LOCATION:Logos Hope\, Port of Spain\, Trinidad and Tobago
CATEGORIES:Conference,Music
ATTACH;FMTTYPE=image/jpeg:https://tovatickets.com/wp-content/uploads/2024/12/tova-tickets-logos-hope-new-year-worship-concert.jpg
ORGANIZER;CN="Logos Hope":MAILTO:russell.munjera@gbaships.org
END:VEVENT
BEGIN:VEVENT
DTSTART;TZID=America/Port_of_Spain:20250103T180000
DTEND;TZID=America/Port_of_Spain:20250103T200000
DTSTAMP:20260424T203915
CREATED:20241218T225417Z
LAST-MODIFIED:20241218T234515Z
UID:3074-1735927200-1735934400@tovatickets.com
SUMMARY:Logos Hope: Teens in His Kingdom
DESCRIPTION:Teens In His Kingdom \nCome and have an incredible experience with other Teenagers your age onboard Logos Hope. \nWhen: January 3\, 2025\nTime: 6:00pm – 8:00pm (Open doors 5:30pm)\nFor: Teens 13 – 18 Years\nLocation: Logos Hope\, Port of Spain\, Trinidad\nEntry Fee: TT$10
URL:https://tovatickets.com/event/logos-hope-teens-in-his-kingdom/
LOCATION:Logos Hope\, Port of Spain\, Trinidad and Tobago
CATEGORIES:Conference
ATTACH;FMTTYPE=image/jpeg:https://tovatickets.com/wp-content/uploads/2024/12/tova-tickets-logos-hope-teens-in-his-kingdom.jpg
ORGANIZER;CN="Logos Hope":MAILTO:russell.munjera@gbaships.org
END:VEVENT
BEGIN:VEVENT
DTSTART;TZID=America/Port_of_Spain:20241229T150000
DTEND;TZID=America/Port_of_Spain:20241229T170000
DTSTAMP:20260424T203915
CREATED:20241218T234232Z
LAST-MODIFIED:20241218T234243Z
UID:3094-1735484400-1735491600@tovatickets.com
SUMMARY:Logos Hope: Little Change Makers
DESCRIPTION:Little Change Makers \nBring your future world changer to this interactive event for children. \nWhen: December 29\, 2024\nTime: 3:00pm – 5:00pm (Open doors 2:30pm)\nFor: Children 8 – 12 Years\nLocation: Logos Hope\, Port of Spain\, Trinidad\nEntry Fee: TT$10
URL:https://tovatickets.com/event/logos-hope-little-change-makers/
LOCATION:Logos Hope\, Port of Spain\, Trinidad and Tobago
CATEGORIES:Conference
ATTACH;FMTTYPE=image/jpeg:https://tovatickets.com/wp-content/uploads/2024/12/tova-tickets-logos-hope-little-change-makers.jpg
ORGANIZER;CN="Logos Hope":MAILTO:russell.munjera@gbaships.org
END:VEVENT
BEGIN:VEVENT
DTSTART;TZID=America/Port_of_Spain:20240427T090000
DTEND;TZID=America/Port_of_Spain:20240429T170000
DTSTAMP:20260424T203915
CREATED:20240315T133408Z
LAST-MODIFIED:20240315T134709Z
UID:2226-1714208400-1714410000@tovatickets.com
SUMMARY:Freedom In Christ Trinidad and Tobago Conference!
DESCRIPTION:Join us for an inspiring journey at the Freedom In Christ Trinidad and Tobago Conference!\nUnlock new horizons\, connect with like-minded individuals\, and register now for an empowering experience that transcends boundaries.\nSeize your spot and embrace the freedom that awaits! Galatians 5:1. \nRegistration Cost: \n\nIndividual: $150.00TTD\nGroup of 10 Persons: $1000.00TTD\n\nContact for more information: 868-355-6024 / 868-727-5033\nEmail: info.ficmtt@gmail.com
URL:https://tovatickets.com/event/ficm/
LOCATION:Faith Assembly International\, Fiver Rivers Junction\, Acrouca\, Trinidad and Tobago
CATEGORIES:Conference
ATTACH;FMTTYPE=image/jpeg:https://tovatickets.com/wp-content/uploads/2024/03/tova-tickets-ficm-2024.jpg
END:VEVENT
BEGIN:VEVENT
DTSTART;TZID=America/Port_of_Spain:20240127T090000
DTEND;TZID=America/Port_of_Spain:20240127T120000
DTSTAMP:20260424T203915
CREATED:20240108T183719Z
LAST-MODIFIED:20240108T202438Z
UID:1951-1706346000-1706356800@tovatickets.com
SUMMARY:Vision Writing Virtual Workshop
DESCRIPTION:“Vision is a picture of the future that produces passion” Bill Hybels! \nJoin us for this 3hr hands-on Vision Writing Workshop to explore the key facets of a personal vision statement and get the tools you need to build the dream you see in your heart! \nPresenter Lyndon Balkran will leverage proven principles to help attendees gain actionable insights to discover and document their vision! \nDetails for this digital workshop are outlined below: \n\nDate: Saturday January 27th\nTime: 9:00 am – 12:00 noon\nVenue: Virtual\nTickets Cost: TT$100.00\n\nUpon the confirmation of payment\, access codes will be shared via email. Seats are limited so book your spot now!
URL:https://tovatickets.com/event/vision-writing-virtual-workshop/
LOCATION:Virtual
CATEGORIES:Conference,Workshop
ATTACH;FMTTYPE=image/jpeg:https://tovatickets.com/wp-content/uploads/2024/01/VW-TOVA-1.jpg
ORGANIZER;CN="Hit Refresh":MAILTO:hitrefreshcommunity@gmail.com
END:VEVENT
END:VCALENDAR