BEGIN:VCALENDAR
VERSION:2.0
PRODID:-//Tova Tickets - ECPv6.15.20//NONSGML v1.0//EN
CALSCALE:GREGORIAN
METHOD:PUBLISH
X-ORIGINAL-URL:https://tovatickets.com
X-WR-CALDESC:Events for Tova Tickets
REFRESH-INTERVAL;VALUE=DURATION:PT1H
X-Robots-Tag:noindex
X-PUBLISHED-TTL:PT1H
BEGIN:VTIMEZONE
TZID:America/Port_of_Spain
BEGIN:STANDARD
TZOFFSETFROM:-0400
TZOFFSETTO:-0400
TZNAME:AST
DTSTART:20240101T000000
END:STANDARD
END:VTIMEZONE
BEGIN:VEVENT
DTSTART;TZID=America/Port_of_Spain:20250119T170000
DTEND;TZID=America/Port_of_Spain:20250119T183000
DTSTAMP:20260425T202857
CREATED:20241218T231623Z
LAST-MODIFIED:20241218T231623Z
UID:3084-1737306000-1737311400@tovatickets.com
SUMMARY:Logos Hope: Meet The World
DESCRIPTION:Meet The World \nExperience the beauty of diversity through cultural performances from all around the world! \nDate: January 19\, 2025\nLocation: Logos Hope\, Port of Spain\, Trinidad\nTime: 5:00pm – 6:30pm (Open doors at 4:30pm)\nEntry Fee: TT$10
URL:https://tovatickets.com/event/logos-hope-meet-the-world/
LOCATION:Logos Hope\, Port of Spain\, Trinidad and Tobago
CATEGORIES:Conference
ATTACH;FMTTYPE=image/jpeg:https://tovatickets.com/wp-content/uploads/2024/12/tova-tickets-logos-hope-meet-the-world.jpg
ORGANIZER;CN="Logos Hope":MAILTO:russell.munjera@gbaships.org
END:VEVENT
END:VCALENDAR