BEGIN:VCALENDAR
VERSION:2.0
PRODID:-//Tova Tickets - ECPv6.15.20//NONSGML v1.0//EN
CALSCALE:GREGORIAN
METHOD:PUBLISH
X-ORIGINAL-URL:https://tovatickets.com
X-WR-CALDESC:Events for Tova Tickets
REFRESH-INTERVAL;VALUE=DURATION:PT1H
X-Robots-Tag:noindex
X-PUBLISHED-TTL:PT1H
BEGIN:VTIMEZONE
TZID:America/Port_of_Spain
BEGIN:STANDARD
TZOFFSETFROM:-0400
TZOFFSETTO:-0400
TZNAME:AST
DTSTART:20240101T000000
END:STANDARD
END:VTIMEZONE
BEGIN:VEVENT
DTSTART;TZID=America/Port_of_Spain:20250107T180000
DTEND;TZID=America/Port_of_Spain:20250107T203000
DTSTAMP:20260425T202857
CREATED:20241218T225348Z
LAST-MODIFIED:20241218T225348Z
UID:3061-1736272800-1736281800@tovatickets.com
SUMMARY:Logos Hope: Women In God's Story
DESCRIPTION:Women in God’s Story \nCome and be inspired as we reflect on how God has used women to contribute to God’s Kingdom in the Bible and from the Caribbean. \nLocation: Logos Hope\, Port of Spain\, Trinidad\nDate: January 7\, 2025\nTime: 6:00pm – 8:30pm (Open doors 5:30pm)\nEntry Fee: TT$30
URL:https://tovatickets.com/event/logos-hope-women-in-gods-story/
LOCATION:Logos Hope\, Port of Spain\, Trinidad and Tobago
CATEGORIES:Conference
ATTACH;FMTTYPE=image/jpeg:https://tovatickets.com/wp-content/uploads/2024/12/tova-tickets-logos-hope-women-in-gods-story-02.jpg
ORGANIZER;CN="Logos Hope":MAILTO:russell.munjera@gbaships.org
END:VEVENT
END:VCALENDAR