BEGIN:VCALENDAR
VERSION:2.0
PRODID:-//Tova Tickets - ECPv6.15.20//NONSGML v1.0//EN
CALSCALE:GREGORIAN
METHOD:PUBLISH
X-WR-CALNAME:Tova Tickets
X-ORIGINAL-URL:https://tovatickets.com
X-WR-CALDESC:Events for Tova Tickets
REFRESH-INTERVAL;VALUE=DURATION:PT1H
X-Robots-Tag:noindex
X-PUBLISHED-TTL:PT1H
BEGIN:VTIMEZONE
TZID:America/Port_of_Spain
BEGIN:STANDARD
TZOFFSETFROM:-0400
TZOFFSETTO:-0400
TZNAME:AST
DTSTART:20230101T000000
END:STANDARD
END:VTIMEZONE
BEGIN:VEVENT
DTSTART;TZID=America/Port_of_Spain:20240714T100000
DTEND;TZID=America/Port_of_Spain:20240714T140000
DTSTAMP:20260424T203711
CREATED:20240430T103826Z
LAST-MODIFIED:20240531T191209Z
UID:2570-1720951200-1720965600@tovatickets.com
SUMMARY:Playhouse Circus
DESCRIPTION:The Pitter Patter Playhouse presents Playhouse Circus.  Our events are specially curated for children and this time around we’ve printed even more tickets.\n\nEvent Details:\nSunday 14th July\,2024\nBlock 7 Playfield\, Palmiste San Fernando\n10am-2pm\n\nTicket cost: $30\nTicket Cost + Magic Show $70
URL:https://tovatickets.com/event/playhouse-circus/
LOCATION:Block 7 Playfield\, Palmiste\, San Fernando\, Trinidad and Tobago
CATEGORIES:Circus
ATTACH;FMTTYPE=image/jpeg:https://tovatickets.com/wp-content/uploads/2024/04/tova-tickets-july-fest-circus.jpg
END:VEVENT
END:VCALENDAR