BEGIN:VCALENDAR
VERSION:2.0
PRODID:-//Tova Tickets - ECPv6.15.20//NONSGML v1.0//EN
CALSCALE:GREGORIAN
METHOD:PUBLISH
X-WR-CALNAME:Tova Tickets
X-ORIGINAL-URL:https://tovatickets.com
X-WR-CALDESC:Events for Tova Tickets
REFRESH-INTERVAL;VALUE=DURATION:PT1H
X-Robots-Tag:noindex
X-PUBLISHED-TTL:PT1H
BEGIN:VTIMEZONE
TZID:America/Port_of_Spain
BEGIN:STANDARD
TZOFFSETFROM:-0400
TZOFFSETTO:-0400
TZNAME:AST
DTSTART:20240101T000000
END:STANDARD
END:VTIMEZONE
BEGIN:VEVENT
DTSTART;TZID=America/Port_of_Spain:20251230T180000
DTEND;TZID=America/Port_of_Spain:20251230T233000
DTSTAMP:20260424T203922
CREATED:20251130T194404Z
LAST-MODIFIED:20251215T220552Z
UID:3548-1767117600-1767137400@tovatickets.com
SUMMARY:Goal Setting Party
DESCRIPTION:🎯 We’re ending 2025 with a BANG — and stepping into 2026 with POWER + PURPOSE! \n💫 Sunrise Citi Connect presents the ULTIMATE GOAL SETTING PARTY — the ONLY all-inclusive year-end experience designed to activate your VISION\, ELEVATE your MINDSET\, and POSITION you for MASSIVE 2026 SUCCESS. \nThis TRANSFORMATIONAL night includes:\n✅ Mind-Mapping & Planning\n✅ Leadership + Finance Insights\n✅ Public and Professional Speaking Skills\n✅ Branding Strategies\n✅ Vision-Boarding\n✅ Multiple Million Dollar Communications Strategies\n✅ Networking with Winners\n✅ Live DJ + Full All-Inclusive Experience\nEverything you need to walk into 2026 on fire. \n✨ TICKETS ARE ALL-INCLUSIVE! \n🌅 Sunrise Citi Connect Members\nEarly Bird (before Dec 8th): $350\nGeneral Admission: $400 \n🎟️ General Public\nEarly Bird (before Dec 8th): $450\nGeneral Admission: $500 \n📅 December 30th\, 2025\n📍 Studio 121\, Barataria\n👔 Dress Code: Business Casual \nYour BREAKTHROUGH year starts NOW.\nSecure your ALL-INCLUSIVE spot today at tovatickets.com 🚀🔥 \n💳 Having trouble with online payments?\n\nNo worries — you can also complete your purchase via bank transfer: \nBANK: Royal Bank (RBC) ACCOUNT NAME:\nACCOUNT NAME: Libber8 Limited\nACCOUNT NUMBER: 110000004628263\nACCOUNT TYPE: Chequing \nAfter completing your transfer\, kindly WhatsApp your receipt to 755-2493 to confirm your ticket.
URL:https://tovatickets.com/event/goal-setting-party-2025/
LOCATION:Studio 121\, Corner Tenth Street & Ninth Avenue\, Barataria\, Trinidad and Tobago
CATEGORIES:Business,Conference
ATTACH;FMTTYPE=image/jpeg:https://tovatickets.com/wp-content/uploads/2025/11/tova-tickets-goal-setting-party-2025.jpg
ORGANIZER;CN="Sunrise Citi Connect":MAILTO:sunriseciticonnect@gmail.com
END:VEVENT
END:VCALENDAR