BEGIN:VCALENDAR
VERSION:2.0
PRODID:-//Tova Tickets - ECPv6.15.20//NONSGML v1.0//EN
CALSCALE:GREGORIAN
METHOD:PUBLISH
X-WR-CALNAME:Tova Tickets
X-ORIGINAL-URL:https://tovatickets.com
X-WR-CALDESC:Events for Tova Tickets
REFRESH-INTERVAL;VALUE=DURATION:PT1H
X-Robots-Tag:noindex
X-PUBLISHED-TTL:PT1H
BEGIN:VTIMEZONE
TZID:America/Port_of_Spain
BEGIN:STANDARD
TZOFFSETFROM:-0400
TZOFFSETTO:-0400
TZNAME:AST
DTSTART:20230101T000000
END:STANDARD
END:VTIMEZONE
BEGIN:VEVENT
DTSTART;TZID=America/Port_of_Spain:20260322T173000
DTEND;TZID=America/Port_of_Spain:20260322T203000
DTSTAMP:20260424T203742
CREATED:20260205T121024Z
LAST-MODIFIED:20260303T185808Z
UID:3715-1774200600-1774211400@tovatickets.com
SUMMARY:USC Portraits of Excellence - Scholarship Pageant
DESCRIPTION:Join us on a journey of excellence at the University of the Southern Caribbean Portraits of Excellence Scholarship Pageant 2026! This spectacular event on Sunday\, March 22\, 2026 at 5:30pm in the USC Auditorium\, Maracas Valley\, St. Joseph promises an unforgettable evening of culture\, talent\, and academic recognition. \nPortraits of Excellence is an annual scholarship awards and gala event at the University of the Southern Caribbean (USC) that celebrates students who truly represent the values of the USC Man and Woman. It recognises individuals who demonstrate strong faith\, integrity\, cultural awareness\, critical thinking\, and a genuine commitment to service and lifelong learning. Through creative expression\, research\, and community involvement\, the event highlights students’ personal growth and achievements while celebrating diversity and holistic development
URL:https://tovatickets.com/event/usc-poe-2026/
LOCATION:University of the Southern Caribbean\, USC Auditorium\, Maracas Valley\, St. Joseph\, Trinidad and Tobago
CATEGORIES:Awards
ATTACH;FMTTYPE=image/jpeg:https://tovatickets.com/wp-content/uploads/2026/02/tova-tickets-portraits-of-excellence-2026.jpg
ORGANIZER;CN="University of the Southern Caribbean":MAILTO:imc@usc.edu.tt
END:VEVENT
BEGIN:VEVENT
DTSTART;TZID=America/Port_of_Spain:20240707T170000
DTEND;TZID=America/Port_of_Spain:20240707T213000
DTSTAMP:20260424T203742
CREATED:20240621T152342Z
LAST-MODIFIED:20240621T153141Z
UID:2970-1720371600-1720387800@tovatickets.com
SUMMARY:GMATT VII: Septennium of Gratitude
DESCRIPTION:7th Gospel Music Awards of Trinidad and Tobago Show! Another opportunity to celebrate the ministers and hearts that uplift us through their music. Definitely a Septennium of Gratitude! 🙏✨ \n📅: Sunday 7th July\, 2024\n🕰️: 5pm-10pm\n📍: @sapa \nTickets cost $250 TTD and can be purchased at;\nAll shoeaholics locations\nAll kingslounges locations\nAll excellentstores locations\nReoauto \nOnline at www.tovatickets.com
URL:https://tovatickets.com/event/gmatt2024/
LOCATION:SAPA\, San Fernando\, Trinidad and Tobago
CATEGORIES:Awards,Music
ATTACH;FMTTYPE=image/jpeg:https://tovatickets.com/wp-content/uploads/2024/06/tova-tickets-gmatt7.jpg
END:VEVENT
BEGIN:VEVENT
DTSTART;TZID=America/Port_of_Spain:20240316T173000
DTEND;TZID=America/Port_of_Spain:20250316T203000
DTSTAMP:20260424T203742
CREATED:20250305T122528Z
LAST-MODIFIED:20250313T190516Z
UID:3269-1710610200-1742157000@tovatickets.com
SUMMARY:USC Portraits of Excellence - Scholarship Pageant (Pay-per-view)
DESCRIPTION:Join us on a journey of excellence at the University of the Southern Caribbean Portraits of Excellence Scholarship Pageant 2025! Under the patronage of Mrs. Sharon Clark-Rowley\, this spectacular event on Sunday\, March 16\, 2025 at 5:30pm in the USC Auditorium\, Maracas Valley\, St. Joseph promises an unforgettable evening of culture\, talent\, and academic recognition. \nThis year’s theme\, “Entrepreneurial Innovations: An Imperative for Sustainability in the Caribbean”. The emphasis is on United Nations Sustainable Development Goals 8 and 9 : Decent Work & Economic Growth and Industry\, Innovation & Infrastructure.
URL:https://tovatickets.com/event/usc-portraits-of-excellence-2025/
LOCATION:University of the Southern Caribbean\, USC Auditorium\, Maracas Valley\, St. Joseph\, Trinidad and Tobago
CATEGORIES:Awards
ATTACH;FMTTYPE=image/jpeg:https://tovatickets.com/wp-content/uploads/2025/03/tova-tickets-usc-poe-2025.jpg
ORGANIZER;CN="University of the Southern Caribbean":MAILTO:imc@usc.edu.tt
END:VEVENT
BEGIN:VEVENT
DTSTART;TZID=America/Port_of_Spain:20240310T173000
DTEND;TZID=America/Port_of_Spain:20240310T203000
DTSTAMP:20260424T203742
CREATED:20240205T161608Z
LAST-MODIFIED:20240228T132048Z
UID:2030-1710091800-1710102600@tovatickets.com
SUMMARY:USC Portraits of Excellence - Scholarship Pageant
DESCRIPTION:Join us on a journey of excellence at the University of the Southern Caribbean Portraits of Excellence Scholarship Pageant 2024! Under the patronage of Mrs. Sharon Clark-Rowley\, this spectacular event on Sunday\, March 10\, 2024 at 5:30pm in the USC Auditorium\, Maracas Valley\, St. Joseph promises an unforgettable evening of culture\, talent\, and academic recognition. \nThis year’s theme\, “Fighting Poverty and Hunger: Promoting Food Security in the Caribbean-One Plate at a Time\,” aligns with the United Nations’ Sustainable Development Goals #1 and #2. Our delegates from across the Caribbean are ready to showcase their academic prowess\, cultural richness\, and commitment to community service.
URL:https://tovatickets.com/event/usc-portraits-of-excellence/
LOCATION:University of the Southern Caribbean\, USC Auditorium\, Maracas Valley\, St. Joseph\, Trinidad and Tobago
CATEGORIES:Awards
ATTACH;FMTTYPE=image/jpeg:https://tovatickets.com/wp-content/uploads/2024/02/tova-tickets-usc-portrait-of-excellence.jpg
ORGANIZER;CN="University of the Southern Caribbean":MAILTO:imc@usc.edu.tt
END:VEVENT
END:VCALENDAR