BEGIN:VCALENDAR
VERSION:2.0
PRODID:-//Tova Tickets - ECPv6.15.20//NONSGML v1.0//EN
CALSCALE:GREGORIAN
METHOD:PUBLISH
X-WR-CALNAME:Tova Tickets
X-ORIGINAL-URL:https://tovatickets.com
X-WR-CALDESC:Events for Tova Tickets
REFRESH-INTERVAL;VALUE=DURATION:PT1H
X-Robots-Tag:noindex
X-PUBLISHED-TTL:PT1H
BEGIN:VTIMEZONE
TZID:America/Port_of_Spain
BEGIN:STANDARD
TZOFFSETFROM:-0400
TZOFFSETTO:-0400
TZNAME:AST
DTSTART:20250101T000000
END:STANDARD
END:VTIMEZONE
BEGIN:VEVENT
DTSTART;TZID=America/Port_of_Spain:20260426T180000
DTEND;TZID=America/Port_of_Spain:20260426T200000
DTSTAMP:20260423T091152
CREATED:20260302T135839Z
LAST-MODIFIED:20260302T140446Z
UID:3721-1777226400-1777233600@tovatickets.com
SUMMARY:Dariel Pierre Presents: My Tribute Concert
DESCRIPTION:Dariel Pierre presents My Tribute — a fundraiser concert celebrating his journey through music\, filled with powerful performances and moments that inspire and uplift. \nThis special evening supports the purchase of a new keyboard to further his ministry and musical work ahead. \n📆 Sunday\, April 26th\n📌 Arouca SDA Multipurpose Hall\n⏰️ 6 PM \nCome and experience an evening of praise\, gratitude and worship. \n🎟 Tickets: $80
URL:https://tovatickets.com/event/dariel-pierre-presents-my-tribute-concert/
LOCATION:Arouca SDA Multipurpose Hall\, Mann Street\, Arouca\, Trinidad and Tobago
CATEGORIES:Concert,Music
ATTACH;FMTTYPE=image/jpeg:https://tovatickets.com/wp-content/uploads/2026/03/tova-tickets-daniel-pierre-in-concert.jpg
END:VEVENT
END:VCALENDAR