BEGIN:VCALENDAR
VERSION:2.0
PRODID:-//Tova Tickets - ECPv6.15.20//NONSGML v1.0//EN
CALSCALE:GREGORIAN
METHOD:PUBLISH
X-WR-CALNAME:Tova Tickets
X-ORIGINAL-URL:https://tovatickets.com
X-WR-CALDESC:Events for Tova Tickets
REFRESH-INTERVAL;VALUE=DURATION:PT1H
X-Robots-Tag:noindex
X-PUBLISHED-TTL:PT1H
BEGIN:VTIMEZONE
TZID:America/Port_of_Spain
BEGIN:STANDARD
TZOFFSETFROM:-0400
TZOFFSETTO:-0400
TZNAME:AST
DTSTART:20240101T000000
END:STANDARD
END:VTIMEZONE
BEGIN:VEVENT
DTSTART;TZID=America/Port_of_Spain:20251115T200000
DTEND;TZID=America/Port_of_Spain:20251115T230000
DTSTAMP:20260425T001244
CREATED:20251001T204347Z
LAST-MODIFIED:20251105T163828Z
UID:3352-1763236800-1763247600@tovatickets.com
SUMMARY:Jason Max Ferdinand Singers In Concert
DESCRIPTION:The University of the Southern Caribbean (USC)\, in partnership with the Community Hospital of SDA\, proudly presents the internationally acclaimed Jason Max Ferdinand Singers in Concert. This performance is part of USC’s Journey to 100 series of events as the institution prepares to celebrate its centennial in 2027.\n\nAudiences in Trinidad will have the rare opportunity to experience a world-class choral ensemble known for their artistry\, passion\, and inspiring message of unity and hope through music.\n\n\nDate: Saturday\, November 15\, 2025\nVenue: USC Auditorium\, University of the Southern Caribbean\, Main Campus – Trinidad\nTime: 8:00 p.m.\n\n  \nTickets Details: \n\nGeneral Tickets: TT$200\nVIP Admission: TT$300 (includes preferred seating & refreshments).\nPay-per-view: $US20 / TT$140
URL:https://tovatickets.com/event/jmfs/
LOCATION:University of the Southern Caribbean\, USC Auditorium\, Maracas Valley\, St. Joseph\, Trinidad and Tobago
CATEGORIES:Music
ATTACH;FMTTYPE=image/jpeg:https://tovatickets.com/wp-content/uploads/2025/10/tova-tickets-jmfs-in-concert.jpg
ORGANIZER;CN="University of the Southern Caribbean":MAILTO:imc@usc.edu.tt
END:VEVENT
END:VCALENDAR