BEGIN:VCALENDAR
VERSION:2.0
PRODID:-//Tova Tickets - ECPv6.15.20//NONSGML v1.0//EN
CALSCALE:GREGORIAN
METHOD:PUBLISH
X-WR-CALNAME:Tova Tickets
X-ORIGINAL-URL:https://tovatickets.com
X-WR-CALDESC:Events for Tova Tickets
REFRESH-INTERVAL;VALUE=DURATION:PT1H
X-Robots-Tag:noindex
X-PUBLISHED-TTL:PT1H
BEGIN:VTIMEZONE
TZID:America/Port_of_Spain
BEGIN:STANDARD
TZOFFSETFROM:-0400
TZOFFSETTO:-0400
TZNAME:AST
DTSTART:20240101T000000
END:STANDARD
END:VTIMEZONE
BEGIN:VEVENT
DTSTART;TZID=America/Port_of_Spain:20250329T200000
DTEND;TZID=America/Port_of_Spain:20250329T233000
DTSTAMP:20260425T120643
CREATED:20250311T002415Z
LAST-MODIFIED:20250316T201538Z
UID:3275-1743278400-1743291000@tovatickets.com
SUMMARY:The Ultimate Throwback
DESCRIPTION:🎶 The Ultimate Throwback 🎶\nA Night of Retro Vibes & Timeless Hits! \n📅 Saturday\, March 29\, 2025 | ⏰ 8 PM📍 Trinebox Hall | 10-12 Borde Street\, POS💰 $100 | Complimentary Corn Soup and Drink \nStep into the past and experience the magic of the 70s & 80s at The Ultimate Throwback! Get ready to groove all night to the best throwback hits while embracing the iconic fashion of the era. \n🔥 Non-Stop Throwback Hits – Dance to the sounds of Disco\, Funk\, Soca & Dancehall!🔥 Karaoke & Dance-Off – Show off your best moves & sing your heart out!🔥 Prizes for Best Retro Outfit – Bring your Afros\, Bell Bottoms & Vintage Drip!🔥 Food & One Drink Included – Additional food & drinks will be on sale. \n💃🏽 Dress to Impress & Party Like It’s the 70s & 80s! 🕺🏽 \n📲 WhatsApp: 361-9383 or 466-8682 \nDon’t miss the ULTIMATE RETRO EXPERIENCE! 🔥✨
URL:https://tovatickets.com/event/the-ultimate-throwback/
LOCATION:Trinebox Hall\, 10-12 Borde Street\, Port of Spain\, Trinidad and Tobago
CATEGORIES:Music
ATTACH;FMTTYPE=image/jpeg:https://tovatickets.com/wp-content/uploads/2025/03/tova-tickets-the-ultimate-throwback-100.jpg
END:VEVENT
END:VCALENDAR